BEGIN:VCALENDAR
VERSION:2.0
PRODID:-//World Institute for Gender Studies - ECPv6.15.15//NONSGML v1.0//EN
CALSCALE:GREGORIAN
METHOD:PUBLISH
X-ORIGINAL-URL:https://wigsedu.ng
X-WR-CALDESC:Events for World Institute for Gender Studies
REFRESH-INTERVAL;VALUE=DURATION:PT1H
X-Robots-Tag:noindex
X-PUBLISHED-TTL:PT1H
BEGIN:VTIMEZONE
TZID:Africa/Lagos
BEGIN:STANDARD
TZOFFSETFROM:+0100
TZOFFSETTO:+0100
TZNAME:WAT
DTSTART:20250101T000000
END:STANDARD
END:VTIMEZONE
BEGIN:VEVENT
DTSTART;VALUE=DATE:20260817
DTEND;VALUE=DATE:20260825
DTSTAMP:20260424T132925
CREATED:20240820T102743Z
LAST-MODIFIED:20260422T120122Z
UID:8462-1786924800-1787615999@wigsedu.ng
SUMMARY:GLOBAL WOMEN IN LEADERSHIP & INTERNATIONAL TRADE EXPOSURE PROGRAMME – CHINA 2026
DESCRIPTION:GLOBAL WOMEN IN LEADERSHIP & INTERNATIONAL\nTRADE EXPOSURE PROGRAMME – CHINA 2026				\n				\n				\n				\n					Date: 17 to 24 August\, 2026 \nVenue: Guangzhou & Beijing\, China				\n				\n				\n				\n					Participation Fee: $2\,750 per participant				\n				\n				\n				\n					Theme: Advancing Startegic Leadership\, Economic Empowerment and Global Partnership for African Women				\n				\n				\n				\n									The World Institute for Gender Studies proudly presents an exclusive international leadership and trade exposure programme in China designed for high-level African women leaders.This prestigious international programme is specifically designed for distinguished Nigerian women in leadership positions\, including women in public service\, academia\, business\, and spouses of public office holders. It aims to strengthen leadership capacity\, expand global perspectives\, and create access to international trade and investment opportunities.The programme combines leadership development\, global networking\, and participation in one of the world’s largest trade exhibitions\, offering delegates a unique opportunity to explore global markets\, build partnerships\, and strengthen their influence. 								\n				\n				\n		\n				\n				\n							\n\n						\n				\n								\n			\n			\n						\n\n									\n						\n							Delegates will attend the prestigious China Import and Export Fair\, Featuring:						\n					 \n				\n									\n						· Thousands of global exhibitors \n· Access to manufacturers and suppliers\n· Opportunities for import/export partnerships \n· Exposure to cutting-edge products and innovations\n· Strategic leadership in a global economy\n· Women in governance and policy influence\n· Economic empowerment and trade opportunities\n· Engagement with Chinese business leaders and institutions\n· Cross-cultural collaboration opportunities\n· International partnership development\n· Government and policy institutions\n· Industrial and manufacturing hubs\n· Academic and research institutions					 \n				\n			\n			\n		\n						\n				\n				\n				\n							\n\n						\n				\n								\n			\n			\n						\n\n									\n						\n							Target Participants:						\n					 \n				\n									\n						· Women in political and public leadership \n· Wives of public office holders\n· Women in academia and research leadership\n· Women entrepreneurs and business executives\n· NGO and development sector leaders					 \n				\n			\n			\n		\n						\n				\n				\n				\n							\n\n						\n				\n								\n			\n			\n						\n\n									\n						\n							How to register: 						\n					 \n				\n									\n						To register for this programme\, simply send us your: \nfull name\, position\, organization\, phone number\, and email address. \nKindly confirm your participation on or before 22nd June\, 2026.					 \n				\n			\n			\n		\n						\n				\n				\n				\n							\n\n						\n				\n								\n			\n			\n						\n\n									\n						\n							Participation Fee:						\n					 \n				\n									\n						To participate in this programme\, you will need to pay $2\,750 (Two Thousand\, Seven Hundred and Fifty US Dollars)\nonly.  \nWhich covers the following; \n· 6 Night accommodation (Premium Standard) \n· Visa Support & Processing \n· Factory Visits & Exhibition Access\n· Fellowship Induction \n· Tuition and Course Material \n· Guided Tour \n· Feeding (Breakfast & Lunch during the programme) \n· Executive Certificate in Leadership and Business Policy) \n· Business Contact Meetings\nDue to the exclusive nature of this programme\, participation is\nlimited\, and we encourage early confirmation to secure your place. \nVisa Processing: \nThe following documents will be required to\nfacilitate your visa application:\n· International passport with at least six (6) months validity\n· Two recent passport photographs (white background)\n· A 3-month bank statement reflecting adequate financial capacity to support travel (a minimum closing balance of\napproximately NGN 500\,000 is advised)\nTravel Arrangements: \nTravel will be coordinated through our\npartner airlines—Ethiopian Airlines\, Emirates\, and Qatar Airways\nwith departures from Lagos\, Abuja\, and Port Harcourt. \nPlease indicate your preferred airline and departure location\, and we will\nshare a detailed and discounted fare quotation and itinerary for your\nconvenience.					 \n				\n			\n			\n		\n						\n				\n				\n				\n				\n		\n		\n				\n				\n					DATES				\n				\n				\n				\n					\n	\n	Date & Time:	\n			August 17\, 2026\n\n		\n	\n	 - \n\n	August 24\, 2026\n\n	\n				\n				\n				\n				\n					\n	Cost:\n$2\,750 				\n				\n				\n		\n		\n				\n				\n					\n	\n	Organizer\n	WIGS\n	\n	\n\n	Phone:\n					\n			+234 806 053 3338			\n	 \n\n\n	\n\n	Website:View Organizer Website \n\n\n	\n	Email:\n					\n			info@wigsedu.ng			\n	 \n\n\n\n				\n				\n				\n				\n		\n				\n				\n					VANUE				\n				\n				\n				\n					\n				\n				\n	\n	China\n	\n	Address:\n	\n\n\n	Guangzhou & Beijing\,\n\n\n\n	China\n\n\n\n\n	+ Google Map \n\n\n	\n	Phone:\n					\n						\n	 \n\n\n	\n	Website:
URL:https://wigsedu.ng/event/cultural-exchange-building-global-connections-through-language-and-arts/
LOCATION:China\, Guangzhou & Beijing\, China
ATTACH;FMTTYPE=image/png:https://wigsedu.ng/wp-content/uploads/2024/08/fdgdfgdgdfr.png
ORGANIZER;CN="WIGS":MAILTO:info@wigsedu.ng
END:VEVENT
END:VCALENDAR